BEGIN:VCALENDAR
VERSION:2.0
PRODID:-//Sedna - ECPv4.9.10//NONSGML v1.0//EN
CALSCALE:GREGORIAN
METHOD:PUBLISH
X-WR-CALNAME:Sedna
X-ORIGINAL-URL:https://www.sedna.com.tr
X-WR-CALDESC:Events for Sedna
BEGIN:VTIMEZONE
TZID:UTC
BEGIN:STANDARD
TZOFFSETFROM:+0000
TZOFFSETTO:+0000
TZNAME:UTC
DTSTART:20170101T000000
END:STANDARD
END:VTIMEZONE
BEGIN:VEVENT
DTSTART;VALUE=DATE:20171109
DTEND;VALUE=DATE:20180906
DTSTAMP:20260421T090630
CREATED:20171109T123715Z
LAST-MODIFIED:20171109T123715Z
UID:329-1510185600-1536191999@www.sedna.com.tr
SUMMARY:Curabitur non nulla sit amet
DESCRIPTION:Vestibulum ac diam sit amet quam vehicula elementum sed sit amet dui. Curabitur aliquet quam id dui posuere blandit. Nulla quis lorem ut libero malesuada feugiat. Curabitur aliquet quam id dui posuere blandit. Curabitur arcu erat\, accumsan id imperdiet et\, porttitor at sem. Vivamus suscipit tortor eget felis porttitor volutpat. Curabitur arcu erat\, accumsan id imperdiet et\, porttitor at sem. \n
URL:https://www.sedna.com.tr/event/curabitur-non-nulla-sit-amet/
LOCATION:Democrats Campaign Headquarters\, Glasgow\, Scotland\, 3800\, United Kingdom
CATEGORIES:Training
ORGANIZER;CN="Texas%20Democrats":MAILTO:info@texasdems.com
END:VEVENT
END:VCALENDAR